BEGIN:VCALENDAR
VERSION:2.0
PRODID:-//varyada.cz - ECPv6.0.6.2//NONSGML v1.0//EN
CALSCALE:GREGORIAN
METHOD:PUBLISH
X-WR-CALNAME:varyada.cz
X-ORIGINAL-URL:https://varyada.cz
X-WR-CALDESC:Události pro  varyada.cz
REFRESH-INTERVAL;VALUE=DURATION:PT1H
X-Robots-Tag:noindex
X-PUBLISHED-TTL:PT1H
BEGIN:VTIMEZONE
TZID:Europe/Prague
BEGIN:DAYLIGHT
TZOFFSETFROM:+0100
TZOFFSETTO:+0200
TZNAME:CEST
DTSTART:20240331T010000
END:DAYLIGHT
BEGIN:STANDARD
TZOFFSETFROM:+0200
TZOFFSETTO:+0100
TZNAME:CET
DTSTART:20241027T010000
END:STANDARD
END:VTIMEZONE
BEGIN:VEVENT
DTSTART;TZID=Europe/Prague:20240901T093000
DTEND;TZID=Europe/Prague:20240901T150000
DTSTAMP:20260423T115500
CREATED:20240829T224314Z
LAST-MODIFIED:20240829T224314Z
UID:10000052-1725183000-1725202800@varyada.cz
SUMMARY:Varyáda RoadShow - Lázně Kynžvart
DESCRIPTION:
URL:https://varyada.cz/event/varyada-roadshow-lazne-kynzvart/
LOCATION:Lázně Kynžvart\, Lázně Kynžvart\, Lázně Kynžvart
ATTACH;FMTTYPE=image/png:https://varyada.cz/app/uploads/2024/08/1600x900px_minimapy_roadshow_lazne_kynzvart.png
END:VEVENT
BEGIN:VEVENT
DTSTART;TZID=Europe/Prague:20240903T140000
DTEND;TZID=Europe/Prague:20240903T180000
DTSTAMP:20260423T115500
CREATED:20240801T140707Z
LAST-MODIFIED:20240821T142325Z
UID:10000040-1725372000-1725386400@varyada.cz
SUMMARY:Škola volá ve Varyádě
DESCRIPTION:
URL:https://varyada.cz/event/skola-vola-ve-varyade/
LOCATION:OC Varyáda\, Kpt. Jaroše 375\, Dvory\, Karlovy Vary\, Karlovarský kraj\, 360 06\, Czech Republic
ATTACH;FMTTYPE=image/png:https://varyada.cz/app/uploads/2024/08/1024x800px_VAR_web_skola_vola.png
END:VEVENT
BEGIN:VEVENT
DTSTART;TZID=Europe/Prague:20240906T100000
DTEND;TZID=Europe/Prague:20240906T170000
DTSTAMP:20260423T115500
CREATED:20240904T061359Z
LAST-MODIFIED:20240904T062342Z
UID:10000053-1725616800-1725642000@varyada.cz
SUMMARY:Varyáda RoadShow - Karlovy Vary - koupaliště Rolava
DESCRIPTION:
URL:https://varyada.cz/event/karlovy-vary-koupaliste/
LOCATION:Karlovy Vary – koupaliště\, koupaliště Rolava\, Karlovy Vary
ATTACH;FMTTYPE=image/png:https://varyada.cz/app/uploads/2024/05/1600x900px_minimapy_roadshow_karlovy_vary_koupaliste_rolava.png
END:VEVENT
BEGIN:VEVENT
DTSTART;TZID=Europe/Prague:20240907T090000
DTEND;TZID=Europe/Prague:20240907T170000
DTSTAMP:20260423T115500
CREATED:20240904T061810Z
LAST-MODIFIED:20240904T062153Z
UID:10000054-1725699600-1725728400@varyada.cz
SUMMARY:Varyáda RoadShow - Bečov nad Teplou
DESCRIPTION:
URL:https://varyada.cz/event/becov-nad-teplou/
LOCATION:Bečov nad Teplou\, Náměstí 5. května\, Bečov nad Teplou\, 364 64
ATTACH;FMTTYPE=image/png:https://varyada.cz/app/uploads/2024/08/1600x900px_minimapy_roadshow_becov.png
END:VEVENT
BEGIN:VEVENT
DTSTART;TZID=Europe/Prague:20240908T090000
DTEND;TZID=Europe/Prague:20240908T170000
DTSTAMP:20260423T115500
CREATED:20240904T061950Z
LAST-MODIFIED:20240904T062250Z
UID:10000055-1725786000-1725814800@varyada.cz
SUMMARY:Varyáda RoadShow - Bečov nad Teplou
DESCRIPTION:
URL:https://varyada.cz/event/becov-nad-teplou-2/
LOCATION:Bečov nad Teplou\, Náměstí 5. května\, Bečov nad Teplou\, 364 64
ATTACH;FMTTYPE=image/png:https://varyada.cz/app/uploads/2024/08/1600x900px_minimapy_roadshow_becov.png
END:VEVENT
BEGIN:VEVENT
DTSTART;TZID=Europe/Prague:20240912T170000
DTEND;TZID=Europe/Prague:20240912T200000
DTSTAMP:20260423T115500
CREATED:20240906T154523Z
LAST-MODIFIED:20240906T160455Z
UID:10000056-1726160400-1726171200@varyada.cz
SUMMARY:Hokejky ve Varyádě
DESCRIPTION:Začátek hokejové sezóny je za rohem a Varyáda přichází s každoroční akcí\, na kterou se těší všichni fanoušci. Ve čtvrtek 12. září od 17:00 hodin se v prostorách Varyády uskuteční autogramiáda s hokejovými hvězdami. Návštěvníci se mohou těšit nejen na podpisy\, ale také na jedinečné zážitky.
URL:https://varyada.cz/event/hokejky-ve-varyade/
LOCATION:OC Varyáda\, Kpt. Jaroše 375\, Dvory\, Karlovy Vary\, Karlovarský kraj\, 360 06\, Czech Republic
ATTACH;FMTTYPE=image/png:https://varyada.cz/app/uploads/2024/09/1024x800px_VAR_web_autogramiada_hc_energie.png
END:VEVENT
BEGIN:VEVENT
DTSTART;TZID=Europe/Prague:20240913T093000
DTEND;TZID=Europe/Prague:20240913T164500
DTSTAMP:20260423T115500
CREATED:20240909T131845Z
LAST-MODIFIED:20240909T132225Z
UID:10000057-1726219800-1726245900@varyada.cz
SUMMARY:RaodShow karavan - Cheb
DESCRIPTION:
URL:https://varyada.cz/event/cheb/
LOCATION:Cheb\, náměstí Krále Jiřího z Poděbrad\, Cheb 2\, 350 02\, Czech Republic
ATTACH;FMTTYPE=image/png:https://varyada.cz/app/uploads/2024/08/1600x900px_minimapy_roadshow_cheb_trzni_namesti.png
END:VEVENT
BEGIN:VEVENT
DTSTART;TZID=Europe/Prague:20240914T093000
DTEND;TZID=Europe/Prague:20240914T160000
DTSTAMP:20260423T115500
CREATED:20240909T133011Z
LAST-MODIFIED:20240912T092311Z
UID:10000058-1726306200-1726329600@varyada.cz
SUMMARY:RoadShow Loket - historické rallyes
DESCRIPTION:
URL:https://varyada.cz/event/loket-historicke-rallyes/
LOCATION:Loket\, Parkoviště P2 u benzinky\, Loket
ATTACH;FMTTYPE=image/png:https://varyada.cz/app/uploads/2024/08/1600x900px_minimapy_roadshow_loket.png
END:VEVENT
BEGIN:VEVENT
DTSTART;TZID=Europe/Prague:20240915T093000
DTEND;TZID=Europe/Prague:20240915T150000
DTSTAMP:20260423T115500
CREATED:20240909T134448Z
LAST-MODIFIED:20240909T134542Z
UID:10000060-1726392600-1726412400@varyada.cz
SUMMARY:RoadShow karavan - Teplá u Toužimě
DESCRIPTION:
URL:https://varyada.cz/event/roadshow-karavan-tepla-u-touzime/
LOCATION:Teplá u Toužimě\, Masarykovo náměstí\, Teplá u Toužimě\, 364 61\, Czech Republic
ATTACH;FMTTYPE=image/png:https://varyada.cz/app/uploads/2024/08/1600x900px_minimapy_roadshow_tepla.png
END:VEVENT
BEGIN:VEVENT
DTSTART;TZID=Europe/Prague:20240920T093000
DTEND;TZID=Europe/Prague:20240920T170000
DTSTAMP:20260423T115500
CREATED:20240918T080131Z
LAST-MODIFIED:20240918T081710Z
UID:10000061-1726824600-1726851600@varyada.cz
SUMMARY:RoadShow karavan - Sokolov
DESCRIPTION:
URL:https://varyada.cz/event/roadshow-karavan-sokolov/
LOCATION:Sokolov\, náměstí Budovatelů\, Sokolov 1\, 35601
ATTACH;FMTTYPE=image/png:https://varyada.cz/app/uploads/2024/08/1600x900px_minimapy_roadshow_sokolov.png
END:VEVENT
BEGIN:VEVENT
DTSTART;TZID=Europe/Prague:20240921T110000
DTEND;TZID=Europe/Prague:20240921T180000
DTSTAMP:20260423T115500
CREATED:20240918T081629Z
LAST-MODIFIED:20240918T081629Z
UID:10000062-1726916400-1726941600@varyada.cz
SUMMARY:RoadShow karavan - Horní Slavkov
DESCRIPTION:
URL:https://varyada.cz/event/roadshow-karavan-horni-slavkov/
LOCATION:Horní Slavkov\, Dlouhá\, Horní Slavkov\, 35731
ATTACH;FMTTYPE=image/png:https://varyada.cz/app/uploads/2024/08/1600x900px_minimapy_roadshow_horni_slavkov.png
END:VEVENT
BEGIN:VEVENT
DTSTART;TZID=Europe/Prague:20240922T083000
DTEND;TZID=Europe/Prague:20240922T150000
DTSTAMP:20260423T115500
CREATED:20240918T082022Z
LAST-MODIFIED:20240918T082022Z
UID:10000063-1726993800-1727017200@varyada.cz
SUMMARY:RoadShow karavan - Žlutice
DESCRIPTION:
URL:https://varyada.cz/event/roadshow-karavan-zlutice/
LOCATION:Žlutice\, Velké náměstí\, Žlutice\, 36452
ATTACH;FMTTYPE=image/png:https://varyada.cz/app/uploads/2024/08/1600x900px_minimapy_roadshow_zlutice.png
END:VEVENT
END:VCALENDAR