BEGIN:VCALENDAR
VERSION:2.0
PRODID:-//varyada.cz - ECPv6.0.6.2//NONSGML v1.0//EN
CALSCALE:GREGORIAN
METHOD:PUBLISH
X-ORIGINAL-URL:https://varyada.cz
X-WR-CALDESC:Události pro  varyada.cz
REFRESH-INTERVAL;VALUE=DURATION:PT1H
X-Robots-Tag:noindex
X-PUBLISHED-TTL:PT1H
BEGIN:VTIMEZONE
TZID:Europe/Prague
BEGIN:DAYLIGHT
TZOFFSETFROM:+0100
TZOFFSETTO:+0200
TZNAME:CEST
DTSTART:20240331T010000
END:DAYLIGHT
BEGIN:STANDARD
TZOFFSETFROM:+0200
TZOFFSETTO:+0100
TZNAME:CET
DTSTART:20241027T010000
END:STANDARD
END:VTIMEZONE
BEGIN:VEVENT
DTSTART;TZID=Europe/Prague:20240809T100000
DTEND;TZID=Europe/Prague:20240809T150000
DTSTAMP:20260423T131758
CREATED:20240807T125851Z
LAST-MODIFIED:20240807T125851Z
UID:10000041-1723197600-1723215600@varyada.cz
SUMMARY:Varyáda Roadshow - Chodov
DESCRIPTION:
URL:https://varyada.cz/event/varyada-roadshow-chodov/
LOCATION:9.8. Chodov\, Staroměstská\, 357 35 Chodov u Karlových Varů\, Chodov\, 35735\, Czech Republic
ATTACH;FMTTYPE=image/png:https://varyada.cz/app/uploads/2024/08/1600x900px_minimapy_roadshow_chodov.png
GEO:50.239155;12.748786
X-APPLE-STRUCTURED-LOCATION;VALUE=URI;X-ADDRESS=9.8. Chodov Staroměstská 357 35 Chodov u Karlových Varů Chodov 35735 Czech Republic;X-APPLE-RADIUS=500;X-TITLE=Staroměstská\, 357 35 Chodov u Karlových Varů:geo:12.748786,50.239155
END:VEVENT
BEGIN:VEVENT
DTSTART;TZID=Europe/Prague:20240810T100000
DTEND;TZID=Europe/Prague:20240810T170000
DTSTAMP:20260423T131758
CREATED:20240807T130419Z
LAST-MODIFIED:20240807T130419Z
UID:10000042-1723284000-1723309200@varyada.cz
SUMMARY:Varyáda Roadshow - Karlovy Vary Rolava
DESCRIPTION:
URL:https://varyada.cz/event/varyada-roadshow-karlovy-vary-rolava/
LOCATION:10.8. Karlovy Vary – koupaliště Rolava\, Třeboňská 1049/92\, Karlovy Vary 5\, 36005\, Czech Republic
ATTACH;FMTTYPE=image/png:https://varyada.cz/app/uploads/2024/08/1600x900px_minimapy_roadshow_karlovy_vary_koupaliste_rolava.png
GEO:50.238149;12.8454
X-APPLE-STRUCTURED-LOCATION;VALUE=URI;X-ADDRESS=10.8. Karlovy Vary – koupaliště Rolava Třeboňská 1049/92 Karlovy Vary 5 36005 Czech Republic;X-APPLE-RADIUS=500;X-TITLE=Třeboňská 1049/92:geo:12.8454,50.238149
END:VEVENT
BEGIN:VEVENT
DTSTART;TZID=Europe/Prague:20240811T093000
DTEND;TZID=Europe/Prague:20240811T150000
DTSTAMP:20260423T131758
CREATED:20240807T130608Z
LAST-MODIFIED:20240812T175541Z
UID:10000043-1723368600-1723388400@varyada.cz
SUMMARY:Varyáda Roadshow - Nejdek
DESCRIPTION:
URL:https://varyada.cz/event/varyada-roadshow-nejdek/
LOCATION:11.8. Nejdek\, Bří Čapků\, Nejdek 1\, 36221\, Czech Republic
ATTACH;FMTTYPE=image/png:https://varyada.cz/app/uploads/2024/08/1600x900px_minimapy_roadshow_nejdek.png
GEO:50.322272;12.730724
X-APPLE-STRUCTURED-LOCATION;VALUE=URI;X-ADDRESS=11.8. Nejdek Bří Čapků Nejdek 1 36221 Czech Republic;X-APPLE-RADIUS=500;X-TITLE=Bří Čapků:geo:12.730724,50.322272
END:VEVENT
BEGIN:VEVENT
DTSTART;TZID=Europe/Prague:20240816T160000
DTEND;TZID=Europe/Prague:20240816T210000
DTSTAMP:20260423T131758
CREATED:20240812T175407Z
LAST-MODIFIED:20240812T180144Z
UID:10000044-1723824000-1723842000@varyada.cz
SUMMARY:Varyáda Roadshow - Sokolov koupaliště Michal
DESCRIPTION:
URL:https://varyada.cz/event/varyada-roadshow-sokolv-koupaliste-michal/
LOCATION:Sokolov\, náměstí Budovatelů\, Sokolov 1\, 35601
ATTACH;FMTTYPE=image/png:https://varyada.cz/app/uploads/2024/08/1600x900px_minimapy_roadshow_jezero_michal.png
END:VEVENT
BEGIN:VEVENT
DTSTART;TZID=Europe/Prague:20240817T090000
DTEND;TZID=Europe/Prague:20240817T180000
DTSTAMP:20260423T131758
CREATED:20240812T180037Z
LAST-MODIFIED:20240815T104313Z
UID:10000045-1723885200-1723917600@varyada.cz
SUMMARY:Varyáda Roadshow - Cheb - Letecký den
DESCRIPTION:
URL:https://varyada.cz/event/varyada-roadshow-cheb-letecky-den/
LOCATION:Cheb\, náměstí Krále Jiřího z Poděbrad\, Cheb 2\, 350 02\, Czech Republic
ATTACH;FMTTYPE=image/png:https://varyada.cz/app/uploads/2024/08/1600x900px_minimapy_roadshow_letiste_cheb.png
END:VEVENT
BEGIN:VEVENT
DTSTART;TZID=Europe/Prague:20240818T090000
DTEND;TZID=Europe/Prague:20240818T180000
DTSTAMP:20260423T131758
CREATED:20240812T180311Z
LAST-MODIFIED:20240815T104230Z
UID:10000046-1723971600-1724004000@varyada.cz
SUMMARY:Varyáda Roadshow - Cheb - Letecký den
DESCRIPTION:
URL:https://varyada.cz/event/varyada-roadshow-cheb-letecky-den-2/
LOCATION:Cheb\, náměstí Krále Jiřího z Poděbrad\, Cheb 2\, 350 02\, Czech Republic
ATTACH;FMTTYPE=image/png:https://varyada.cz/app/uploads/2024/08/1600x900px_minimapy_roadshow_letiste_cheb.png
END:VEVENT
BEGIN:VEVENT
DTSTART;TZID=Europe/Prague:20240823T093000
DTEND;TZID=Europe/Prague:20240823T150000
DTSTAMP:20260423T131758
CREATED:20240821T120144Z
LAST-MODIFIED:20240821T120144Z
UID:10000047-1724405400-1724425200@varyada.cz
SUMMARY:Varyáda RoadShow - Kynšperk nad Ohří
DESCRIPTION:
URL:https://varyada.cz/event/varyada-roadshow-kynsperk-nad-ohri/
LOCATION:Kynšperk nad Ohří\, Chebská 387\, Kynšperk nad Ohří\, Chebská 387\, 357 51 Kynšperk nad Ohří
ATTACH;FMTTYPE=image/png:https://varyada.cz/app/uploads/2024/08/1600x900px_minimapy_roadshow_kynsperk.png
END:VEVENT
BEGIN:VEVENT
DTSTART;TZID=Europe/Prague:20240824T090000
DTEND;TZID=Europe/Prague:20240824T160000
DTSTAMP:20260423T131758
CREATED:20240821T143316Z
LAST-MODIFIED:20240821T143410Z
UID:10000048-1724490000-1724515200@varyada.cz
SUMMARY:Varyáda RoadShow - Loket Kryštof Kemp
DESCRIPTION:
URL:https://varyada.cz/event/varyada-roadshow-loket-krystof-kemp/
LOCATION:Loket\, Parkoviště P2 u benzinky\, Loket
ATTACH;FMTTYPE=image/png:https://varyada.cz/app/uploads/2024/08/1600x900px_minimapy_roadshow_loket.png
END:VEVENT
BEGIN:VEVENT
DTSTART;TZID=Europe/Prague:20240825T090000
DTEND;TZID=Europe/Prague:20240825T150000
DTSTAMP:20260423T131758
CREATED:20240821T144226Z
LAST-MODIFIED:20240821T144554Z
UID:10000049-1724576400-1724598000@varyada.cz
SUMMARY:Varyáda RoadShow - Březová
DESCRIPTION:
URL:https://varyada.cz/event/varyada-roadshow-brezova/
LOCATION:Březová\, Hlavní 100\, Březová-Sokolov 1
ATTACH;FMTTYPE=image/png:https://varyada.cz/app/uploads/2024/08/1600x900px_minimapy_roadshow_brezova.png
END:VEVENT
BEGIN:VEVENT
DTSTART;TZID=Europe/Prague:20240830T100000
DTEND;TZID=Europe/Prague:20240830T150000
DTSTAMP:20260423T131758
CREATED:20240829T223501Z
LAST-MODIFIED:20240829T223658Z
UID:10000050-1725012000-1725030000@varyada.cz
SUMMARY:Varyáda RoadShow - Mariánské Lázně
DESCRIPTION:
URL:https://varyada.cz/event/varyada-roadshow-marianske-lazne/
LOCATION:Mariánské Lázně\, Masarykova\, Mariánské Lázně 1\, Czech Republic
ATTACH;FMTTYPE=image/png:https://varyada.cz/app/uploads/2024/08/1600x900px_minimapy_roadshow_marianske_lazne.png
END:VEVENT
BEGIN:VEVENT
DTSTART;TZID=Europe/Prague:20240831T140000
DTEND;TZID=Europe/Prague:20240831T190000
DTSTAMP:20260423T131758
CREATED:20240829T224000Z
LAST-MODIFIED:20240829T224047Z
UID:10000051-1725112800-1725130800@varyada.cz
SUMMARY:Varyáda RoadShow - Loket
DESCRIPTION:
URL:https://varyada.cz/event/varyada-roadshow-loket/
LOCATION:Loket\, Parkoviště P2 u benzinky\, Loket
ATTACH;FMTTYPE=image/png:https://varyada.cz/app/uploads/2024/08/1600x900px_minimapy_roadshow_loket.png
END:VEVENT
END:VCALENDAR