BEGIN:VCALENDAR
VERSION:2.0
PRODID:-//varyada.cz - ECPv6.0.6.2//NONSGML v1.0//EN
CALSCALE:GREGORIAN
METHOD:PUBLISH
X-WR-CALNAME:varyada.cz
X-ORIGINAL-URL:https://varyada.cz
X-WR-CALDESC:Události pro  varyada.cz
REFRESH-INTERVAL;VALUE=DURATION:PT1H
X-Robots-Tag:noindex
X-PUBLISHED-TTL:PT1H
BEGIN:VTIMEZONE
TZID:Europe/Prague
BEGIN:DAYLIGHT
TZOFFSETFROM:+0100
TZOFFSETTO:+0200
TZNAME:CEST
DTSTART:20260329T010000
END:DAYLIGHT
BEGIN:STANDARD
TZOFFSETFROM:+0200
TZOFFSETTO:+0100
TZNAME:CET
DTSTART:20261025T010000
END:STANDARD
END:VTIMEZONE
BEGIN:VEVENT
DTSTART;TZID=Europe/Prague:20260421T170000
DTEND;TZID=Europe/Prague:20260421T183000
DTSTAMP:20260421T095707
CREATED:20260402T082933Z
LAST-MODIFIED:20260421T063218Z
UID:10000106-1776790800-1776796200@varyada.cz
SUMMARY:3300 km pěšky do Santiaga de Compostela
DESCRIPTION:Pro děti i dospělé bude připraven bohatý doprovodný program\, který začne v 16:00 hodin koncertem Barbory Pleva Mottlové. Vánoční stromeček rozsvítí úderem 17:00 hodin primátorka města Andrea Pfeffer Ferklová a spolu s ním Varyádu rozzáří více  než 150 tisíc vánočních světel. Vstup na akci je v doprovodu dospělé osoby\, se staženou aplikací Moje Varyáda a účtenkou v minimální hodnotě 500 Kč v období 25. 11. – 5. 12. Těšíme se na vás!
URL:https://varyada.cz/event/3300-km-pesky-do-santiaga-de-compostela/
LOCATION:OC Varyáda\, Kpt. Jaroše 375\, Dvory\, Karlovy Vary\, Karlovarský kraj\, 360 06\, Czech Republic
ATTACH;FMTTYPE=image/webp:https://varyada.cz/app/uploads/2026/04/ctr-cestovateleprednasky-jordansko-web-1024x1024px-png_1775713343.webp
END:VEVENT
BEGIN:VEVENT
DTSTART;TZID=Europe/Prague:20260425T100000
DTEND;TZID=Europe/Prague:20260425T180000
DTSTAMP:20260421T095708
CREATED:20260216T102837Z
LAST-MODIFIED:20260327T142755Z
UID:10000100-1777111200-1777140000@varyada.cz
SUMMARY:Pokémoni ve Varyádě
DESCRIPTION:Pro děti i dospělé bude připraven bohatý doprovodný program\, který začne v 16:00 hodin koncertem Barbory Pleva Mottlové. Vánoční stromeček rozsvítí úderem 17:00 hodin primátorka města Andrea Pfeffer Ferklová a spolu s ním Varyádu rozzáří více  než 150 tisíc vánočních světel. Vstup na akci je v doprovodu dospělé osoby\, se staženou aplikací Moje Varyáda a účtenkou v minimální hodnotě 500 Kč v období 25. 11. – 5. 12. Těšíme se na vás!
URL:https://varyada.cz/event/pokemoni-ve-varyade/
LOCATION:OC Varyáda\, Kpt. Jaroše 375\, Dvory\, Karlovy Vary\, Karlovarský kraj\, 360 06\, Czech Republic
ATTACH;FMTTYPE=image/png:https://varyada.cz/app/uploads/2026/02/VAR-Pokemoni-web-1024x1024px.png
END:VEVENT
BEGIN:VEVENT
DTSTART;VALUE=DATE:20260516
DTEND;VALUE=DATE:20260517
DTSTAMP:20260421T095708
CREATED:20260216T110546Z
LAST-MODIFIED:20260216T123801Z
UID:10000102-1778889600-1778975999@varyada.cz
SUMMARY:Runczech - Varyáda
DESCRIPTION:Pro děti i dospělé bude připraven bohatý doprovodný program\, který začne v 16:00 hodin koncertem Barbory Pleva Mottlové. Vánoční stromeček rozsvítí úderem 17:00 hodin primátorka města Andrea Pfeffer Ferklová a spolu s ním Varyádu rozzáří více  než 150 tisíc vánočních světel. Vstup na akci je v doprovodu dospělé osoby\, se staženou aplikací Moje Varyáda a účtenkou v minimální hodnotě 500 Kč v období 25. 11. – 5. 12. Těšíme se na vás!
URL:https://varyada.cz/event/runczech-varyada/
LOCATION:Runczech Varyáda\, nábř. Osvobození\, Karlovy Vary\, 36006\, Czech Republic
ATTACH;FMTTYPE=image/jpeg:https://varyada.cz/app/uploads/2026/02/cil2.jpg
END:VEVENT
BEGIN:VEVENT
DTSTART;TZID=Europe/Prague:20260526T170000
DTEND;TZID=Europe/Prague:20260526T183000
DTSTAMP:20260421T095708
CREATED:20260421T063432Z
LAST-MODIFIED:20260421T063432Z
UID:10000107-1779814800-1779820200@varyada.cz
SUMMARY:Přednáška: Pyrenejský vrcholový trail
DESCRIPTION:Pro děti i dospělé bude připraven bohatý doprovodný program\, který začne v 16:00 hodin koncertem Barbory Pleva Mottlové. Vánoční stromeček rozsvítí úderem 17:00 hodin primátorka města Andrea Pfeffer Ferklová a spolu s ním Varyádu rozzáří více  než 150 tisíc vánočních světel. Vstup na akci je v doprovodu dospělé osoby\, se staženou aplikací Moje Varyáda a účtenkou v minimální hodnotě 500 Kč v období 25. 11. – 5. 12. Těšíme se na vás!
URL:https://varyada.cz/event/prednaska-pyrenejsky-vrcholovy-trail/
LOCATION:OC Varyáda\, Kpt. Jaroše 375\, Dvory\, Karlovy Vary\, Karlovarský kraj\, 360 06\, Czech Republic
ATTACH;FMTTYPE=image/png:https://varyada.cz/app/uploads/2026/04/CTR-Cestovatelska-prednaska-web-prach-1024x1024px.png
END:VEVENT
BEGIN:VEVENT
DTSTART;TZID=Europe/Prague:20260530T100000
DTEND;TZID=Europe/Prague:20260530T160000
DTSTAMP:20260421T095708
CREATED:20260216T122224Z
LAST-MODIFIED:20260216T122224Z
UID:10000103-1780135200-1780156800@varyada.cz
SUMMARY:Foodfestival
DESCRIPTION:Pro děti i dospělé bude připraven bohatý doprovodný program\, který začne v 16:00 hodin koncertem Barbory Pleva Mottlové. Vánoční stromeček rozsvítí úderem 17:00 hodin primátorka města Andrea Pfeffer Ferklová a spolu s ním Varyádu rozzáří více  než 150 tisíc vánočních světel. Vstup na akci je v doprovodu dospělé osoby\, se staženou aplikací Moje Varyáda a účtenkou v minimální hodnotě 500 Kč v období 25. 11. – 5. 12. Těšíme se na vás!
URL:https://varyada.cz/event/foodfestival/
LOCATION:OC Varyáda\, Kpt. Jaroše 375\, Dvory\, Karlovy Vary\, Karlovarský kraj\, 360 06\, Czech Republic
ATTACH;FMTTYPE=image/jpeg:https://varyada.cz/app/uploads/2026/02/food.jpg
END:VEVENT
BEGIN:VEVENT
DTSTART;TZID=Europe/Prague:20260623T170000
DTEND;TZID=Europe/Prague:20260623T183000
DTSTAMP:20260421T095708
CREATED:20260421T063618Z
LAST-MODIFIED:20260421T063618Z
UID:10000108-1782234000-1782239400@varyada.cz
SUMMARY:Přednáška: Tajuplná Indonésie
DESCRIPTION:Pro děti i dospělé bude připraven bohatý doprovodný program\, který začne v 16:00 hodin koncertem Barbory Pleva Mottlové. Vánoční stromeček rozsvítí úderem 17:00 hodin primátorka města Andrea Pfeffer Ferklová a spolu s ním Varyádu rozzáří více  než 150 tisíc vánočních světel. Vstup na akci je v doprovodu dospělé osoby\, se staženou aplikací Moje Varyáda a účtenkou v minimální hodnotě 500 Kč v období 25. 11. – 5. 12. Těšíme se na vás!
URL:https://varyada.cz/event/prednaska-tajuplna-indonesie/
LOCATION:OC Varyáda\, Kpt. Jaroše 375\, Dvory\, Karlovy Vary\, Karlovarský kraj\, 360 06\, Czech Republic
ATTACH;FMTTYPE=image/png:https://varyada.cz/app/uploads/2026/04/CTR-Cestovatelska-prednaska-web-prach-1024x1024px.png
END:VEVENT
END:VCALENDAR