BEGIN:VCALENDAR
VERSION:2.0
PRODID:-//varyada.cz - ECPv6.0.6.2//NONSGML v1.0//EN
CALSCALE:GREGORIAN
METHOD:PUBLISH
X-WR-CALNAME:varyada.cz
X-ORIGINAL-URL:https://varyada.cz
X-WR-CALDESC:Události pro  varyada.cz
REFRESH-INTERVAL;VALUE=DURATION:PT1H
X-Robots-Tag:noindex
X-PUBLISHED-TTL:PT1H
BEGIN:VTIMEZONE
TZID:Europe/Prague
BEGIN:DAYLIGHT
TZOFFSETFROM:+0100
TZOFFSETTO:+0200
TZNAME:CEST
DTSTART:20260329T010000
END:DAYLIGHT
BEGIN:STANDARD
TZOFFSETFROM:+0200
TZOFFSETTO:+0100
TZNAME:CET
DTSTART:20261025T010000
END:STANDARD
END:VTIMEZONE
BEGIN:VEVENT
DTSTART;TZID=Europe/Prague:20260530T100000
DTEND;TZID=Europe/Prague:20260530T160000
DTSTAMP:20260424T142805
CREATED:20260216T122224Z
LAST-MODIFIED:20260216T122224Z
UID:10000103-1780135200-1780156800@varyada.cz
SUMMARY:Foodfestival
DESCRIPTION:20 stánků\, celodenní program\, karikaturista\, malování na obličej\, skákací hrad.
URL:https://varyada.cz/event/foodfestival/
LOCATION:OC Varyáda\, Kpt. Jaroše 375\, Dvory\, Karlovy Vary\, Karlovarský kraj\, 360 06\, Czech Republic
ATTACH;FMTTYPE=image/jpeg:https://varyada.cz/app/uploads/2026/02/food.jpg
END:VEVENT
BEGIN:VEVENT
DTSTART;TZID=Europe/Prague:20260618T170000
DTEND;TZID=Europe/Prague:20260618T180000
DTSTAMP:20260424T142805
CREATED:20260424T060744Z
LAST-MODIFIED:20260424T061731Z
UID:10000110-1781802000-1781805600@varyada.cz
SUMMARY:První pomoc na cestách (ZZS)
DESCRIPTION:Dovolenková sezóna klepe na dveře. Víte\, jak si poradit při úrazech nebo náhlých zdravotních potížích daleko od domova? Profesionální záchranáři ze Zdravotnické záchranné služby vás naučí základy první pomoci specifické pro cestování\, abyste na svých cestách dokázali zachovat klid a účinně pomoci.
URL:https://varyada.cz/event/prvni-pomoc-na-cestach-zzs/
LOCATION:OC Varyáda\, Kpt. Jaroše 375\, Dvory\, Karlovy Vary\, Karlovarský kraj\, 360 06\, Czech Republic
CATEGORIES:Fyzioterapie
ATTACH;FMTTYPE=image/png:https://varyada.cz/app/uploads/2026/04/VAR-Prednaska-doktorka-web-1024x1024px.png
END:VEVENT
BEGIN:VEVENT
DTSTART;TZID=Europe/Prague:20260623T170000
DTEND;TZID=Europe/Prague:20260623T183000
DTSTAMP:20260424T142805
CREATED:20260421T063618Z
LAST-MODIFIED:20260421T085613Z
UID:10000108-1782234000-1782239400@varyada.cz
SUMMARY:Přednáška: Tajuplná Indonésie
DESCRIPTION:Jana Wolfová strávila v Indonésii řadu let\, kdy procestovala velkou část této rozmanité země. Ve svém poutavém vyprávění vás zavede do hinduistických chrámů na Bali\, za orangutany v divoké přírodě na Sumatře\, na bílé pláže na Lomboku\, za komodskými draky a nebo za zapomenutým etnikem bývalých lovců lebek na ostrov Siberut.
URL:https://varyada.cz/event/prednaska-tajuplna-indonesie/
LOCATION:OC Varyáda\, Kpt. Jaroše 375\, Dvory\, Karlovy Vary\, Karlovarský kraj\, 360 06\, Czech Republic
CATEGORIES:Cestovatelské přednášky
ATTACH;FMTTYPE=image/png:https://varyada.cz/app/uploads/2026/04/CTR-Cestovatelska-prednaska-web-prach-1024x1024px.png
END:VEVENT
BEGIN:VEVENT
DTSTART;TZID=Europe/Prague:20260730T170000
DTEND;TZID=Europe/Prague:20260730T180000
DTSTAMP:20260424T142805
CREATED:20260424T060843Z
LAST-MODIFIED:20260424T060843Z
UID:10000111-1785430800-1785434400@varyada.cz
SUMMARY:Hygiena na cestách (KKN)
DESCRIPTION:Exotické destinace i kempování v přírodě přinášejí specifická rizika. Přednáška pod záštitou KKN se zaměří na to\, jak dodržovat hygienické standardy v polních podmínkách\, na co si dát pozor při konzumaci potravin a vody v zahraničí a jak se vyhnout nepříjemným infekčním onemocněním\, která mohou zkazit celou dovolenou.
URL:https://varyada.cz/event/hygiena-na-cestach-kkn/
LOCATION:OC Varyáda\, Kpt. Jaroše 375\, Dvory\, Karlovy Vary\, Karlovarský kraj\, 360 06\, Czech Republic
CATEGORIES:Fyzioterapie
ATTACH;FMTTYPE=image/png:https://varyada.cz/app/uploads/2026/04/VAR-Prednaska-doktorka-web-1024x1024px.png
END:VEVENT
BEGIN:VEVENT
DTSTART;TZID=Europe/Prague:20260827T170000
DTEND;TZID=Europe/Prague:20260827T180000
DTSTAMP:20260424T142805
CREATED:20260424T061005Z
LAST-MODIFIED:20260424T061005Z
UID:10000112-1787850000-1787853600@varyada.cz
SUMMARY:Intoxikace léky\, drogami a alkoholem u dětí (Penta Hospitals)
DESCRIPTION:Velmi důležité a citlivé téma zaměřené na bezpečnost našich nejmenších i dospívajících. Odborníci z Penta Hospitals rozeberou rizika náhodných i úmyslných intoxikací u dětí. Dozvíte se\, jaké jsou varovné signály\, jak poskytnout první pomoc a především\, jak těmto nebezpečným situacím účinně předcházet.
URL:https://varyada.cz/event/intoxikace-leky-drogami-a-alkoholem-u-deti-penta-hospitals/
LOCATION:OC Varyáda\, Kpt. Jaroše 375\, Dvory\, Karlovy Vary\, Karlovarský kraj\, 360 06\, Czech Republic
CATEGORIES:Fyzioterapie
ATTACH;FMTTYPE=image/png:https://varyada.cz/app/uploads/2026/04/VAR-Prednaska-doktorka-web-1024x1024px.png
END:VEVENT
BEGIN:VEVENT
DTSTART;TZID=Europe/Prague:20260929T170000
DTEND;TZID=Europe/Prague:20260929T180000
DTSTAMP:20260424T142805
CREATED:20260424T061110Z
LAST-MODIFIED:20260424T061110Z
UID:10000113-1790701200-1790704800@varyada.cz
SUMMARY:Screeningová vyšetření a programy (KKN)
DESCRIPTION:Mnoho vážných onemocnění je v počátku bezpříznakových\, ale moderní medicína je umí zachytit včas. Specialisté z KKN vám představí dostupné screeningové programy v České republice. Zjistěte\, na jaká preventivní vyšetření máte nárok a proč vám pár minut v ordinaci může doslova zachránit život.
URL:https://varyada.cz/event/screeningova-vysetreni-a-programy-kkn/
LOCATION:OC Varyáda\, Kpt. Jaroše 375\, Dvory\, Karlovy Vary\, Karlovarský kraj\, 360 06\, Czech Republic
CATEGORIES:Fyzioterapie
ATTACH;FMTTYPE=image/png:https://varyada.cz/app/uploads/2026/04/VAR-Prednaska-doktorka-web-1024x1024px.png
END:VEVENT
END:VCALENDAR