BEGIN:VCALENDAR
VERSION:2.0
PRODID:-//varyada.cz - ECPv6.0.6.2//NONSGML v1.0//EN
CALSCALE:GREGORIAN
METHOD:PUBLISH
X-ORIGINAL-URL:https://varyada.cz
X-WR-CALDESC:Události pro  varyada.cz
REFRESH-INTERVAL;VALUE=DURATION:PT1H
X-Robots-Tag:noindex
X-PUBLISHED-TTL:PT1H
BEGIN:VTIMEZONE
TZID:Europe/Prague
BEGIN:DAYLIGHT
TZOFFSETFROM:+0100
TZOFFSETTO:+0200
TZNAME:CEST
DTSTART:20250330T010000
END:DAYLIGHT
BEGIN:STANDARD
TZOFFSETFROM:+0200
TZOFFSETTO:+0100
TZNAME:CET
DTSTART:20251026T010000
END:STANDARD
END:VTIMEZONE
BEGIN:VEVENT
DTSTART;TZID=Europe/Prague:20250901T140000
DTEND;TZID=Europe/Prague:20250901T170000
DTSTAMP:20260420T125857
CREATED:20250702T103404Z
LAST-MODIFIED:20250702T103839Z
UID:10000084-1756735200-1756746000@varyada.cz
SUMMARY:Škola volá
DESCRIPTION:1. září a Škola volá\, klasická dvojice\, kterou musíte potkat i ve Varyádě s naditým kolem štěstí se spoustou potřebných\, nejen školních\, potřeb a dárků – pro všechny školáky a školačky. U nás vyhraje každý\, kdo si zatočí. Přijdete i vy? V pondělí 1. září od 14:00 ve Varyádě.
URL:https://varyada.cz/event/skola-vola/
LOCATION:OC Varyáda\, Kpt. Jaroše 375\, Dvory\, Karlovy Vary\, Karlovarský kraj\, 360 06\, Czech Republic
ATTACH;FMTTYPE=image/jpeg:https://varyada.cz/app/uploads/2025/07/skola-vola.jpg
END:VEVENT
END:VCALENDAR