BEGIN:VCALENDAR
VERSION:2.0
PRODID:-//varyada.cz - ECPv6.0.6.2//NONSGML v1.0//EN
CALSCALE:GREGORIAN
METHOD:PUBLISH
X-ORIGINAL-URL:https://varyada.cz
X-WR-CALDESC:Události pro  varyada.cz
REFRESH-INTERVAL;VALUE=DURATION:PT1H
X-Robots-Tag:noindex
X-PUBLISHED-TTL:PT1H
BEGIN:VTIMEZONE
TZID:Europe/Prague
BEGIN:DAYLIGHT
TZOFFSETFROM:+0100
TZOFFSETTO:+0200
TZNAME:CEST
DTSTART:20240331T010000
END:DAYLIGHT
BEGIN:STANDARD
TZOFFSETFROM:+0200
TZOFFSETTO:+0100
TZNAME:CET
DTSTART:20241027T010000
END:STANDARD
END:VTIMEZONE
BEGIN:VEVENT
DTSTART;TZID=Europe/Prague:20240809T100000
DTEND;TZID=Europe/Prague:20240809T150000
DTSTAMP:20260423T144808
CREATED:20240807T125851Z
LAST-MODIFIED:20240807T125851Z
UID:10000041-1723197600-1723215600@varyada.cz
SUMMARY:Varyáda Roadshow - Chodov
DESCRIPTION:
URL:https://varyada.cz/event/varyada-roadshow-chodov/
LOCATION:9.8. Chodov\, Staroměstská\, 357 35 Chodov u Karlových Varů\, Chodov\, 35735\, Czech Republic
ATTACH;FMTTYPE=image/png:https://varyada.cz/app/uploads/2024/08/1600x900px_minimapy_roadshow_chodov.png
GEO:50.239155;12.748786
X-APPLE-STRUCTURED-LOCATION;VALUE=URI;X-ADDRESS=9.8. Chodov Staroměstská 357 35 Chodov u Karlových Varů Chodov 35735 Czech Republic;X-APPLE-RADIUS=500;X-TITLE=Staroměstská\, 357 35 Chodov u Karlových Varů:geo:12.748786,50.239155
END:VEVENT
END:VCALENDAR