BEGIN:VCALENDAR
VERSION:2.0
PRODID:-//varyada.cz - ECPv6.0.6.2//NONSGML v1.0//EN
CALSCALE:GREGORIAN
METHOD:PUBLISH
X-ORIGINAL-URL:https://varyada.cz
X-WR-CALDESC:Události pro  varyada.cz
REFRESH-INTERVAL;VALUE=DURATION:PT1H
X-Robots-Tag:noindex
X-PUBLISHED-TTL:PT1H
BEGIN:VTIMEZONE
TZID:Europe/Prague
BEGIN:DAYLIGHT
TZOFFSETFROM:+0100
TZOFFSETTO:+0200
TZNAME:CEST
DTSTART:20230326T010000
END:DAYLIGHT
BEGIN:STANDARD
TZOFFSETFROM:+0200
TZOFFSETTO:+0100
TZNAME:CET
DTSTART:20231029T010000
END:STANDARD
END:VTIMEZONE
BEGIN:VEVENT
DTSTART;TZID=Europe/Prague:20230421T090000
DTEND;TZID=Europe/Prague:20230421T170000
DTSTAMP:20260425T132458
CREATED:20230328T135834Z
LAST-MODIFIED:20230328T140005Z
UID:10000005-1682067600-1682096400@varyada.cz
SUMMARY:1. MAXI farmářské trhy
DESCRIPTION:
URL:https://varyada.cz/event/1-maxi-farmarske-trhy/
LOCATION:OC Varyáda\, Kpt. Jaroše 375\, Dvory\, Karlovy Vary\, Karlovarský kraj\, 360 06\, Czech Republic
ATTACH;FMTTYPE=image/png:https://varyada.cz/app/uploads/2023/03/1024x800px_web_maxi_farmarske_trhy_krava.png
END:VEVENT
END:VCALENDAR